BEGIN:VCALENDAR
VERSION:2.0
PRODID:-//Riverside Academy - ECPv5.16.4//NONSGML v1.0//EN
CALSCALE:GREGORIAN
METHOD:PUBLISH
X-WR-CALNAME:Riverside Academy
X-ORIGINAL-URL:https://acariverside.com
X-WR-CALDESC:Events for Riverside Academy
BEGIN:VTIMEZONE
TZID:America/New_York
BEGIN:DAYLIGHT
TZOFFSETFROM:-0500
TZOFFSETTO:-0400
TZNAME:EDT
DTSTART:20230312T070000
END:DAYLIGHT
BEGIN:STANDARD
TZOFFSETFROM:-0400
TZOFFSETTO:-0500
TZNAME:EST
DTSTART:20231105T060000
END:STANDARD
END:VTIMEZONE
BEGIN:VEVENT
DTSTART;TZID=America/New_York:20231213T100000
DTEND;TZID=America/New_York:20231213T103000
DTSTAMP:20260425T065212
CREATED:20231117T191012Z
LAST-MODIFIED:20231117T191012Z
UID:10684-1702461600-1702463400@acariverside.com
SUMMARY:Virtual Storytime with The Grinch
DESCRIPTION:Circle round for a festive read aloud of The Grinch Who Stole Christmas! Children from 3-5 years old are welcome to join in the fun with their parent or caretaker. \nEnjoy a character visit by the Grinch\, storytime\, crafting together\, learn about our Early K and Kindergarten programs\, and preview our easy registration process! \nThis event takes place on Zoom. Prior to the event\, you will receive log-in details along with the free downloadable craft project. \nRSVP Today: acariverside.com/events
URL:https://acariverside.com/event/virtual-storytime-grinch/
LOCATION:Virtual
CATEGORIES:Calendar Only,Prospective Families, Events, Home
END:VEVENT
END:VCALENDAR