BEGIN:VCALENDAR
VERSION:2.0
PRODID:-//Riverside Academy - ECPv5.16.4//NONSGML v1.0//EN
CALSCALE:GREGORIAN
METHOD:PUBLISH
X-WR-CALNAME:Riverside Academy
X-ORIGINAL-URL:https://acariverside.com
X-WR-CALDESC:Events for Riverside Academy
BEGIN:VTIMEZONE
TZID:America/New_York
BEGIN:DAYLIGHT
TZOFFSETFROM:-0500
TZOFFSETTO:-0400
TZNAME:EDT
DTSTART:20210314T070000
END:DAYLIGHT
BEGIN:STANDARD
TZOFFSETFROM:-0400
TZOFFSETTO:-0500
TZNAME:EST
DTSTART:20211107T060000
END:STANDARD
END:VTIMEZONE
BEGIN:VEVENT
DTSTART;TZID=America/New_York:20210512T130000
DTEND;TZID=America/New_York:20210512T140000
DTSTAMP:20260422T084146
CREATED:20210506T171726Z
LAST-MODIFIED:20210506T171726Z
UID:6129-1620824400-1620828000@acariverside.com
SUMMARY:Virtual Parent Workshop: 8 Boosts Parent Esteem
DESCRIPTION:  \nCome join us for this exciting & informative virtual parent workshop event. Please email Zakia McKinney\, zmckinney@accelschools.com\, to sign up! Everyone that participates is eligible to win one of our school prizes!
URL:https://acariverside.com/event/virtual-parent-workshop-8-boosts-parent-esteem/
LOCATION:Virtual
CATEGORIES:Calendar Only
END:VEVENT
END:VCALENDAR