BEGIN:VCALENDAR
VERSION:2.0
PRODID:-//Riverside Academy - ECPv5.16.4//NONSGML v1.0//EN
CALSCALE:GREGORIAN
METHOD:PUBLISH
X-WR-CALNAME:Riverside Academy
X-ORIGINAL-URL:https://acariverside.com
X-WR-CALDESC:Events for Riverside Academy
BEGIN:VTIMEZONE
TZID:America/New_York
BEGIN:DAYLIGHT
TZOFFSETFROM:-0500
TZOFFSETTO:-0400
TZNAME:EDT
DTSTART:20200308T070000
END:DAYLIGHT
BEGIN:STANDARD
TZOFFSETFROM:-0400
TZOFFSETTO:-0500
TZNAME:EST
DTSTART:20201101T060000
END:STANDARD
END:VTIMEZONE
BEGIN:VEVENT
DTSTART;TZID=America/New_York:20200709T170000
DTEND;TZID=America/New_York:20200709T173000
DTSTAMP:20260422T154456
CREATED:20200701T191648Z
LAST-MODIFIED:20200701T191648Z
UID:3865-1594314000-1594315800@acariverside.com
SUMMARY:Virtual "Meet the Principal" Event
DESCRIPTION:Learn more about Riverside Academy at our virtual open house! \nMeet the principal and staff\, take an online school tour\, and learn how to register for the upcoming school year. \nWe can’t wait to welcome you to our school! \nRSVP here to receive details in advance about how to access this live meeting.
URL:https://acariverside.com/event/virtual-meet-principal-event/
CATEGORIES:Calendar Only,Prospective Families, Events, Home
END:VEVENT
END:VCALENDAR