BEGIN:VCALENDAR
VERSION:2.0
PRODID:-//Riverside Academy - ECPv5.16.4//NONSGML v1.0//EN
CALSCALE:GREGORIAN
METHOD:PUBLISH
X-WR-CALNAME:Riverside Academy
X-ORIGINAL-URL:https://acariverside.com
X-WR-CALDESC:Events for Riverside Academy
BEGIN:VTIMEZONE
TZID:America/New_York
BEGIN:DAYLIGHT
TZOFFSETFROM:-0500
TZOFFSETTO:-0400
TZNAME:EDT
DTSTART:20200308T070000
END:DAYLIGHT
BEGIN:STANDARD
TZOFFSETFROM:-0400
TZOFFSETTO:-0500
TZNAME:EST
DTSTART:20201101T060000
END:STANDARD
END:VTIMEZONE
BEGIN:VEVENT
DTSTART;TZID=America/New_York:20200521T180000
DTEND;TZID=America/New_York:20200521T180000
DTSTAMP:20260422T151519
CREATED:20200513T143740Z
LAST-MODIFIED:20200513T143740Z
UID:3274-1590084000-1590084000@acariverside.com
SUMMARY:Virtual Board Meeting
DESCRIPTION:Meeting Number (Access Code): 628 102 196\nMeeting Password: vjPpU43UBF8 (85778438 from phones/video systems) \nJoin by Phone: 1 408 418 9388
URL:https://acariverside.com/event/virtual-board-meeting/
LOCATION:Virtual
CATEGORIES:Calendar Only,School Board
END:VEVENT
END:VCALENDAR