BEGIN:VCALENDAR
VERSION:2.0
PRODID:-//Riverside Academy - ECPv5.16.4//NONSGML v1.0//EN
CALSCALE:GREGORIAN
METHOD:PUBLISH
X-WR-CALNAME:Riverside Academy
X-ORIGINAL-URL:https://acariverside.com
X-WR-CALDESC:Events for Riverside Academy
BEGIN:VTIMEZONE
TZID:America/New_York
BEGIN:DAYLIGHT
TZOFFSETFROM:-0500
TZOFFSETTO:-0400
TZNAME:EDT
DTSTART:20190310T070000
END:DAYLIGHT
BEGIN:STANDARD
TZOFFSETFROM:-0400
TZOFFSETTO:-0500
TZNAME:EST
DTSTART:20191103T060000
END:STANDARD
END:VTIMEZONE
BEGIN:VEVENT
DTSTART;TZID=America/New_York:20190521T160000
DTEND;TZID=America/New_York:20190521T180000
DTSTAMP:20260425T070021
CREATED:20190429T144506Z
LAST-MODIFIED:20190429T144506Z
UID:1481-1558454400-1558461600@acariverside.com
SUMMARY:Talent Show
DESCRIPTION:Come see how our students display their school pride THE LION WAY! Students and staff will display their talents through song\, dance\, spoken word\, etc. Students will compete for gift cards and prizes! ALL families who refer a friend will be entered to win 1 of 5 $50 Visa Gift Cards\, and a free spaghetti dinner will be provided to all in attendance.
URL:https://acariverside.com/event/talent-show/
LOCATION:Riverside Academy\, 3280 River Road\, Cincinnati\, OH\, 45204\, United States
CATEGORIES:Calendar Only,Prospective Families, Events, Home
GEO:39.0862451;-84.5779904
X-APPLE-STRUCTURED-LOCATION;VALUE=URI;X-ADDRESS=Riverside Academy 3280 River Road Cincinnati OH 45204 United States;X-APPLE-RADIUS=500;X-TITLE=3280 River Road:geo:-84.5779904,39.0862451
END:VEVENT
END:VCALENDAR