BEGIN:VCALENDAR
VERSION:2.0
PRODID:-//Riverside Academy - ECPv5.16.4//NONSGML v1.0//EN
CALSCALE:GREGORIAN
METHOD:PUBLISH
X-WR-CALNAME:Riverside Academy
X-ORIGINAL-URL:https://acariverside.com
X-WR-CALDESC:Events for Riverside Academy
BEGIN:VTIMEZONE
TZID:America/New_York
BEGIN:DAYLIGHT
TZOFFSETFROM:-0500
TZOFFSETTO:-0400
TZNAME:EDT
DTSTART:20230312T070000
END:DAYLIGHT
BEGIN:STANDARD
TZOFFSETFROM:-0400
TZOFFSETTO:-0500
TZNAME:EST
DTSTART:20231105T060000
END:STANDARD
END:VTIMEZONE
BEGIN:VEVENT
DTSTART;TZID=America/New_York:20230724T120000
DTEND;TZID=America/New_York:20230724T150000
DTSTAMP:20260421T080102
CREATED:20230630T153952Z
LAST-MODIFIED:20230706T205743Z
UID:10183-1690200000-1690210800@acariverside.com
SUMMARY:Summer Sports Camp!
DESCRIPTION:Come to our FREE Summer Sports Camp! Camp begins at 12pm and ends at 3pm\, open to both boys and girls\, and be held at Riverside Academy located at 3280 River Road in Cincinnati. Our camp is designed for children K-8 to learn and compete in a variety of athletic events! Basketball\, Baseball\, Volleyball\, you name it and we are going to play it! Our front office will be made available to discuss tours and enrollment opportunities! \nSpace is Limited so Register Today: acariverside.com/summer/
URL:https://acariverside.com/event/summer-sports-camp/2023-07-24/
LOCATION:Riverside Academy\, 3280 River Road\, Cincinnati\, OH\, 45204\, United States
CATEGORIES:Calendar Only,Prospective Families, Events, Home
GEO:39.0862451;-84.5779904
X-APPLE-STRUCTURED-LOCATION;VALUE=URI;X-ADDRESS=Riverside Academy 3280 River Road Cincinnati OH 45204 United States;X-APPLE-RADIUS=500;X-TITLE=3280 River Road:geo:-84.5779904,39.0862451
END:VEVENT
END:VCALENDAR