BEGIN:VCALENDAR
VERSION:2.0
PRODID:-//Riverside Academy - ECPv5.16.4//NONSGML v1.0//EN
CALSCALE:GREGORIAN
METHOD:PUBLISH
X-WR-CALNAME:Riverside Academy
X-ORIGINAL-URL:https://acariverside.com
X-WR-CALDESC:Events for Riverside Academy
BEGIN:VTIMEZONE
TZID:America/New_York
BEGIN:DAYLIGHT
TZOFFSETFROM:-0500
TZOFFSETTO:-0400
TZNAME:EDT
DTSTART:20190310T070000
END:DAYLIGHT
BEGIN:STANDARD
TZOFFSETFROM:-0400
TZOFFSETTO:-0500
TZNAME:EST
DTSTART:20191103T060000
END:STANDARD
END:VTIMEZONE
BEGIN:VEVENT
DTSTART;TZID=America/New_York:20190514T163000
DTEND;TZID=America/New_York:20190514T180000
DTSTAMP:20260425T070319
CREATED:20181218T142429Z
LAST-MODIFIED:20181218T142429Z
UID:1396-1557851400-1557856800@acariverside.com
SUMMARY:School Board Meeting
DESCRIPTION:
URL:https://acariverside.com/event/school-board-meeting-12/
CATEGORIES:Calendar Only,School Board
END:VEVENT
END:VCALENDAR