BEGIN:VCALENDAR
VERSION:2.0
PRODID:-//Riverside Academy - ECPv5.16.4//NONSGML v1.0//EN
CALSCALE:GREGORIAN
METHOD:PUBLISH
X-WR-CALNAME:Riverside Academy
X-ORIGINAL-URL:https://acariverside.com
X-WR-CALDESC:Events for Riverside Academy
BEGIN:VTIMEZONE
TZID:America/New_York
BEGIN:DAYLIGHT
TZOFFSETFROM:-0500
TZOFFSETTO:-0400
TZNAME:EDT
DTSTART:20210314T070000
END:DAYLIGHT
BEGIN:STANDARD
TZOFFSETFROM:-0400
TZOFFSETTO:-0500
TZNAME:EST
DTSTART:20211107T060000
END:STANDARD
END:VTIMEZONE
BEGIN:VEVENT
DTSTART;TZID=America/New_York:20211011T100000
DTEND;TZID=America/New_York:20211011T190000
DTSTAMP:20260422T040923
CREATED:20210621T195642Z
LAST-MODIFIED:20211006T135912Z
UID:6444-1633946400-1633978800@acariverside.com
SUMMARY:Parent-Teacher Conferences
DESCRIPTION:Conferences will be held in person at Riverside Academy from 10:00 A.M. to 7:00 P.M. Please complete the form below. Once you’ve submitted your request\, we will contact you to confirm your conferences. We look forward to seeing you! \nRequest Conference: https://forms.gle/UJCAwTMLVNasHLc57
URL:https://acariverside.com/event/parent-teacher-conferences/
LOCATION:Riverside Academy\, 3280 River Road\, Cincinnati\, OH\, 45204\, United States
CATEGORIES:Calendar Only
GEO:39.0862451;-84.5779904
X-APPLE-STRUCTURED-LOCATION;VALUE=URI;X-ADDRESS=Riverside Academy 3280 River Road Cincinnati OH 45204 United States;X-APPLE-RADIUS=500;X-TITLE=3280 River Road:geo:-84.5779904,39.0862451
END:VEVENT
END:VCALENDAR