BEGIN:VCALENDAR
VERSION:2.0
PRODID:-//Riverside Academy - ECPv5.16.4//NONSGML v1.0//EN
CALSCALE:GREGORIAN
METHOD:PUBLISH
X-WR-CALNAME:Riverside Academy
X-ORIGINAL-URL:https://acariverside.com
X-WR-CALDESC:Events for Riverside Academy
BEGIN:VTIMEZONE
TZID:America/New_York
BEGIN:DAYLIGHT
TZOFFSETFROM:-0500
TZOFFSETTO:-0400
TZNAME:EDT
DTSTART:20220313T070000
END:DAYLIGHT
BEGIN:STANDARD
TZOFFSETFROM:-0400
TZOFFSETTO:-0500
TZNAME:EST
DTSTART:20221106T060000
END:STANDARD
END:VTIMEZONE
BEGIN:VEVENT
DTSTART;TZID=America/New_York:20220329T090000
DTEND;TZID=America/New_York:20220329T120000
DTSTAMP:20260421T221812
CREATED:20220314T210318Z
LAST-MODIFIED:20220314T210318Z
UID:7981-1648544400-1648555200@acariverside.com
SUMMARY:Kindergarten Registration Day
DESCRIPTION:It’s time to register for Kindergarten! Join us for Kindergarten Registration Day where you can meet our principal and teachers\, tour the campus\, and find out more about our tuition-free\, public charter school. Enjoy light refreshments and let us assist you with the registration process. \nRSVP today! \nDon’t forget to bring the following documents to enroll your Kindergartener:  \n\nChild’s Birth Certificate \nProof of Residence \nParent ID (for primary\, custodial parent) \nImmunization Records \n\nFor more information about these documents\, please visit our Enrollment Resources page at: https://accelschools.com/enrollment-resources-ohio/
URL:https://acariverside.com/event/kindergarten-registration-day/
LOCATION:Riverside Academy\, 3280 River Road\, Cincinnati\, OH\, 45204\, United States
CATEGORIES:Calendar Only,Prospective Families, Events, Home
GEO:39.0862451;-84.5779904
X-APPLE-STRUCTURED-LOCATION;VALUE=URI;X-ADDRESS=Riverside Academy 3280 River Road Cincinnati OH 45204 United States;X-APPLE-RADIUS=500;X-TITLE=3280 River Road:geo:-84.5779904,39.0862451
END:VEVENT
END:VCALENDAR