BEGIN:VCALENDAR
VERSION:2.0
PRODID:-//Riverside Academy - ECPv5.16.4//NONSGML v1.0//EN
CALSCALE:GREGORIAN
METHOD:PUBLISH
X-WR-CALNAME:Riverside Academy
X-ORIGINAL-URL:https://acariverside.com
X-WR-CALDESC:Events for Riverside Academy
BEGIN:VTIMEZONE
TZID:America/New_York
BEGIN:DAYLIGHT
TZOFFSETFROM:-0500
TZOFFSETTO:-0400
TZNAME:EDT
DTSTART:20240310T070000
END:DAYLIGHT
BEGIN:STANDARD
TZOFFSETFROM:-0400
TZOFFSETTO:-0500
TZNAME:EST
DTSTART:20241103T060000
END:STANDARD
END:VTIMEZONE
BEGIN:VEVENT
DTSTART;TZID=America/New_York:20240709T090000
DTEND;TZID=America/New_York:20240709T120000
DTSTAMP:20260421T004534
CREATED:20240522T183053Z
LAST-MODIFIED:20240522T183053Z
UID:11476-1720515600-1720526400@acariverside.com
SUMMARY:Kindergarten Readiness Camp
DESCRIPTION:Come to one of our FREE Kindergarten Readiness Camp! Camp begins at 9am and ends at 12pm\, you do not need to be an enrolled student to attend\, and all activities will be held at Riverside Academy’s campus. Lesson plans will be delivered by our Kindergarten staff and provides children the unique opportunity to get an early start to their kindergarten journey. In addition to learning and having fun\, our front office will be made available to discuss tours and enrollment opportunities! \nacariverside.com/summer
URL:https://acariverside.com/event/kindergarten-readiness-camp-5/2024-07-09/
LOCATION:Riverside Academy\, 3280 River Road\, Cincinnati\, OH\, 45204\, United States
CATEGORIES:Calendar Only,Prospective Families, Events, Home
GEO:39.0862451;-84.5779904
X-APPLE-STRUCTURED-LOCATION;VALUE=URI;X-ADDRESS=Riverside Academy 3280 River Road Cincinnati OH 45204 United States;X-APPLE-RADIUS=500;X-TITLE=3280 River Road:geo:-84.5779904,39.0862451
END:VEVENT
END:VCALENDAR