BEGIN:VCALENDAR
VERSION:2.0
PRODID:-//Riverside Academy - ECPv5.16.4//NONSGML v1.0//EN
CALSCALE:GREGORIAN
METHOD:PUBLISH
X-WR-CALNAME:Riverside Academy
X-ORIGINAL-URL:https://acariverside.com
X-WR-CALDESC:Events for Riverside Academy
BEGIN:VTIMEZONE
TZID:America/New_York
BEGIN:DAYLIGHT
TZOFFSETFROM:-0500
TZOFFSETTO:-0400
TZNAME:EDT
DTSTART:20230312T070000
END:DAYLIGHT
BEGIN:STANDARD
TZOFFSETFROM:-0400
TZOFFSETTO:-0500
TZNAME:EST
DTSTART:20231105T060000
END:STANDARD
END:VTIMEZONE
BEGIN:VEVENT
DTSTART;TZID=America/New_York:20230626T090000
DTEND;TZID=America/New_York:20230626T120000
DTSTAMP:20260421T073749
CREATED:20230505T145904Z
LAST-MODIFIED:20230505T164353Z
UID:9922-1687770000-1687780800@acariverside.com
SUMMARY:Kindergarten Readiness Camp
DESCRIPTION:Come to our FREE Kindergarten Readiness Camp! Camp begins at 9am and ends at 12pm. \nYou do not need to be an enrolled student to attend\, and all activities will be held at Riverside Academy’s campus located at 3280 River Road in Cincinnati. \nLesson plans will be delivered by our Kindergarten staff and provides children the unique opportunity to get an early start to their kindergarten journey. \nIn addition to learning and having fun\, lunch will be made available and our front office will be made available to discuss tours and enrollment opportunities! \nSpace is Limited so Register Today: acariverside.com/summer/
URL:https://acariverside.com/event/kindergarten-readiness-camp-4/2023-06-26/
LOCATION:Riverside Academy\, 3280 River Road\, Cincinnati\, OH\, 45204\, United States
CATEGORIES:Calendar Only,Prospective Families, Events, Home
GEO:39.0862451;-84.5779904
X-APPLE-STRUCTURED-LOCATION;VALUE=URI;X-ADDRESS=Riverside Academy 3280 River Road Cincinnati OH 45204 United States;X-APPLE-RADIUS=500;X-TITLE=3280 River Road:geo:-84.5779904,39.0862451
END:VEVENT
END:VCALENDAR