BEGIN:VCALENDAR
VERSION:2.0
PRODID:-//Riverside Academy - ECPv5.16.4//NONSGML v1.0//EN
CALSCALE:GREGORIAN
METHOD:PUBLISH
X-WR-CALNAME:Riverside Academy
X-ORIGINAL-URL:https://acariverside.com
X-WR-CALDESC:Events for Riverside Academy
BEGIN:VTIMEZONE
TZID:America/New_York
BEGIN:DAYLIGHT
TZOFFSETFROM:-0500
TZOFFSETTO:-0400
TZNAME:EDT
DTSTART:20210314T070000
END:DAYLIGHT
BEGIN:STANDARD
TZOFFSETFROM:-0400
TZOFFSETTO:-0500
TZNAME:EST
DTSTART:20211107T060000
END:STANDARD
END:VTIMEZONE
BEGIN:VEVENT
DTSTART;TZID=America/New_York:20210914T100000
DTEND;TZID=America/New_York:20210914T110000
DTSTAMP:20260422T072224
CREATED:20210902T192914Z
LAST-MODIFIED:20210908T150642Z
UID:7171-1631613600-1631617200@acariverside.com
SUMMARY:Prospective Family Open House
DESCRIPTION:It’s not too late to enroll at Riverside Academy for the 2021-22 school year! Join us at open house to learn more about our school\, tour the campus & meet our principal\, teachers & staff. \nRSVPing is required for this event. RSVP Today! \nFamilies interested in enrollment can expedite the registration process by coming prepared with the following:\nChild’s Birth Certificate\nProof of Residence\nParent ID (for primary\, custodial parent)\nImmunization Records\nFor more information about these documents\, please visit our Enrollment Resources page.
URL:https://acariverside.com/event/k-8-open-house-2/
LOCATION:Riverside Academy\, 3280 River Road\, Cincinnati\, OH\, 45204\, United States
CATEGORIES:Calendar Only,Prospective Families, Events, Home
GEO:39.0862451;-84.5779904
X-APPLE-STRUCTURED-LOCATION;VALUE=URI;X-ADDRESS=Riverside Academy 3280 River Road Cincinnati OH 45204 United States;X-APPLE-RADIUS=500;X-TITLE=3280 River Road:geo:-84.5779904,39.0862451
END:VEVENT
END:VCALENDAR