BEGIN:VCALENDAR
VERSION:2.0
PRODID:-//Riverside Academy - ECPv5.16.4//NONSGML v1.0//EN
CALSCALE:GREGORIAN
METHOD:PUBLISH
X-WR-CALNAME:Riverside Academy
X-ORIGINAL-URL:https://acariverside.com
X-WR-CALDESC:Events for Riverside Academy
BEGIN:VTIMEZONE
TZID:America/New_York
BEGIN:DAYLIGHT
TZOFFSETFROM:-0500
TZOFFSETTO:-0400
TZNAME:EDT
DTSTART:20200308T070000
END:DAYLIGHT
BEGIN:STANDARD
TZOFFSETFROM:-0400
TZOFFSETTO:-0500
TZNAME:EST
DTSTART:20201101T060000
END:STANDARD
END:VTIMEZONE
BEGIN:VEVENT
DTSTART;VALUE=DATE:20201023
DTEND;VALUE=DATE:20201024
DTSTAMP:20260422T144437
CREATED:20201021T201556Z
LAST-MODIFIED:20201021T201556Z
UID:4975-1603411200-1603497599@acariverside.com
SUMMARY:Gym Shoe Giveaway Forms Due
DESCRIPTION:GYM SHOE GIVEAWAY\nDonated by Samaritan’s Feet \nWHEN:  October 27th and 29th\, 2020 \nSIZES:  Girls’ and boys’ shoe sizes 1- 5 \n  \nHOW TO ORDER: \n\nComplete the order form below with students’ names and shoe sizes.\nReturn the form to the main office by October 23rd.\nCalls will be made if your order cannot be filled.\n\n  \nHOW TO PICK-UP \n\nTRADITIONAL STUDENTS and HYBRID STUDENTS: Students will be given shoes to take home in their bookbags on Tuesday\, October 27th.\nONLINE STUDENTS: Parents will pick up their child’s shoes on the same day they pick up food for the week on Thursday\, October 29th–  12:00 to 1:30 P.M.\n\n  \nDownload Order Form (DOC)
URL:https://acariverside.com/event/gym-shoe-giveaway-forms-due/
CATEGORIES:Calendar Only
END:VEVENT
END:VCALENDAR