BEGIN:VCALENDAR
VERSION:2.0
PRODID:-//Riverside Academy - ECPv5.16.4//NONSGML v1.0//EN
CALSCALE:GREGORIAN
METHOD:PUBLISH
X-WR-CALNAME:Riverside Academy
X-ORIGINAL-URL:https://acariverside.com
X-WR-CALDESC:Events for Riverside Academy
BEGIN:VTIMEZONE
TZID:America/New_York
BEGIN:DAYLIGHT
TZOFFSETFROM:-0500
TZOFFSETTO:-0400
TZNAME:EDT
DTSTART:20200308T070000
END:DAYLIGHT
BEGIN:STANDARD
TZOFFSETFROM:-0400
TZOFFSETTO:-0500
TZNAME:EST
DTSTART:20201101T060000
END:STANDARD
END:VTIMEZONE
BEGIN:VEVENT
DTSTART;TZID=America/New_York:20200922T153000
DTEND;TZID=America/New_York:20200922T173000
DTSTAMP:20260422T150355
CREATED:20200918T191550Z
LAST-MODIFIED:20200918T191550Z
UID:4762-1600788600-1600795800@acariverside.com
SUMMARY:Free Kona Ice at Skyline!
DESCRIPTION:Frustrated with ONLINE ONLY? Meet the Riverside Academy team at Skyline on Warsaw Ave. to discuss alternative options & grab some FREE Kona Ice! Fill out an information card in exchange for free Kona Ice! We hope to see you there! \nLearn more about our school\, our learning OPTIONS for this year & the enrollment process for the 20-21 year. \nFamilies interested in enrollment should come prepared with the following:\nChild’s Birth Certificate\nParent ID (for primary\, custodial parent)\nImmunization Records\nFor more information about these documents\, please visit our Enrollment Resources page at: https://acariverside.com/apply \nDuring the course of this event we will be following best practices in social distancing to keep participants safe. Prior and throughout the event\, surfaces will be sanitized. Hand sanitizer and face masks will be available. Families are encouraged to bring their own face masks. If you have a young student and this is their first visit to a school campus\, we encourage you to help them understand that school staff will be wearing masks—our smiles may be temporarily covered by masks but we are so happy to welcome you to school!
URL:https://acariverside.com/event/free-kona-ice-skyline/
LOCATION:Riverside Academy\, 3280 River Road\, Cincinnati\, OH\, 45204\, United States
CATEGORIES:Calendar Only,Prospective Families, Events, Home
GEO:39.0862451;-84.5779904
X-APPLE-STRUCTURED-LOCATION;VALUE=URI;X-ADDRESS=Riverside Academy 3280 River Road Cincinnati OH 45204 United States;X-APPLE-RADIUS=500;X-TITLE=3280 River Road:geo:-84.5779904,39.0862451
END:VEVENT
END:VCALENDAR