BEGIN:VCALENDAR
VERSION:2.0
PRODID:-//Riverside Academy - ECPv5.16.4//NONSGML v1.0//EN
CALSCALE:GREGORIAN
METHOD:PUBLISH
X-WR-CALNAME:Riverside Academy
X-ORIGINAL-URL:https://acariverside.com
X-WR-CALDESC:Events for Riverside Academy
BEGIN:VTIMEZONE
TZID:America/New_York
BEGIN:DAYLIGHT
TZOFFSETFROM:-0500
TZOFFSETTO:-0400
TZNAME:EDT
DTSTART:20210314T070000
END:DAYLIGHT
BEGIN:STANDARD
TZOFFSETFROM:-0400
TZOFFSETTO:-0500
TZNAME:EST
DTSTART:20211107T060000
END:STANDARD
END:VTIMEZONE
BEGIN:VEVENT
DTSTART;TZID=America/New_York:20210811T100000
DTEND;TZID=America/New_York:20210811T130000
DTSTAMP:20260422T070728
CREATED:20210719T222513Z
LAST-MODIFIED:20210719T222513Z
UID:6916-1628676000-1628686800@acariverside.com
SUMMARY:FREE Cheer Camp
DESCRIPTION:K-5 students (Age 4+) are invited to a FREE cheerleading camp at Riverside Academy. During this three-day camp\, participants will learn the basics of cheerleading including terminology\, skills\, types of stunts\, and the choreography of a routine performance! \nCheerleading Camp will run Monday\, Tuesday & Wednesday August 9-11. Camp will run from 10:00am-12:00pm on Monday & Tuesday\, and until 1:00pm on Wednesday. \nFamilies are invited to a special cheer performance where participants will showcase what they have learned on the final day of camp\, Wednesday 8/11 from 12:00pm – 1:00pm. \nEnrollment at Riverside Academy is not required to sign up for camp\, but families interested in enrollment will have the opportunity to tour the campus and learn about the registration process. \nSign up today to reserve your spot or call (513) 921-7777
URL:https://acariverside.com/event/free-cheer-camp-2/
LOCATION:Riverside Academy\, 3280 River Road\, Cincinnati\, OH\, 45204\, United States
CATEGORIES:Calendar Only,Prospective Families, Events, Home
GEO:39.0862451;-84.5779904
X-APPLE-STRUCTURED-LOCATION;VALUE=URI;X-ADDRESS=Riverside Academy 3280 River Road Cincinnati OH 45204 United States;X-APPLE-RADIUS=500;X-TITLE=3280 River Road:geo:-84.5779904,39.0862451
END:VEVENT
END:VCALENDAR