BEGIN:VCALENDAR
VERSION:2.0
PRODID:-//Riverside Academy - ECPv5.16.4//NONSGML v1.0//EN
CALSCALE:GREGORIAN
METHOD:PUBLISH
X-WR-CALNAME:Riverside Academy
X-ORIGINAL-URL:https://acariverside.com
X-WR-CALDESC:Events for Riverside Academy
BEGIN:VTIMEZONE
TZID:America/New_York
BEGIN:DAYLIGHT
TZOFFSETFROM:-0500
TZOFFSETTO:-0400
TZNAME:EDT
DTSTART:20190310T070000
END:DAYLIGHT
BEGIN:STANDARD
TZOFFSETFROM:-0400
TZOFFSETTO:-0500
TZNAME:EST
DTSTART:20191103T060000
END:STANDARD
END:VTIMEZONE
BEGIN:VEVENT
DTSTART;TZID=America/New_York:20191212T120000
DTEND;TZID=America/New_York:20191212T153000
DTSTAMP:20260422T185541
CREATED:20191108T160529Z
LAST-MODIFIED:20191108T160529Z
UID:1880-1576152000-1576164600@acariverside.com
SUMMARY:Food Pantry - Feeding Those One Bag at a Time
DESCRIPTION:Riverside Academy has partnered with Free Store Food Bank and they have stocked their pantry with food! The Riverside marketplace is open to all Riverside families and students! Visit our Marketplace to receive free fruit\, meat\, vegetables\, pasta and much more! \nStop by the food pantry in November and be entered to win a Thanksgiving Turkey!  Raffle winners will be announced Monday\, November 25th.
URL:https://acariverside.com/event/food-pantry-feeding-one-bag-time-3/
LOCATION:Riverside Academy\, 3280 River Road\, Cincinnati\, OH\, 45204\, United States
CATEGORIES:Calendar Only,Prospective Families, Events, Home
GEO:39.0862451;-84.5779904
X-APPLE-STRUCTURED-LOCATION;VALUE=URI;X-ADDRESS=Riverside Academy 3280 River Road Cincinnati OH 45204 United States;X-APPLE-RADIUS=500;X-TITLE=3280 River Road:geo:-84.5779904,39.0862451
END:VEVENT
END:VCALENDAR