BEGIN:VCALENDAR
VERSION:2.0
PRODID:-//Riverside Academy - ECPv5.16.4//NONSGML v1.0//EN
CALSCALE:GREGORIAN
METHOD:PUBLISH
X-WR-CALNAME:Riverside Academy
X-ORIGINAL-URL:https://acariverside.com
X-WR-CALDESC:Events for Riverside Academy
BEGIN:VTIMEZONE
TZID:America/New_York
BEGIN:DAYLIGHT
TZOFFSETFROM:-0500
TZOFFSETTO:-0400
TZNAME:EDT
DTSTART:20240310T070000
END:DAYLIGHT
BEGIN:STANDARD
TZOFFSETFROM:-0400
TZOFFSETTO:-0500
TZNAME:EST
DTSTART:20241103T060000
END:STANDARD
END:VTIMEZONE
BEGIN:VEVENT
DTSTART;TZID=America/New_York:20240404T153000
DTEND;TZID=America/New_York:20240404T153000
DTSTAMP:20260421T023231
CREATED:20240329T194038Z
LAST-MODIFIED:20240329T194555Z
UID:11101-1712244600-1712244600@acariverside.com
SUMMARY:Community Meeting
DESCRIPTION:COMMUNITY MEETING \nTHURSDAY\, APRIL 4TH @ 3:30 p.m. \nat \nRIVERSIDE ACADEMY \n3280 River Road\, Cincinnati\, OH 45204 \n  \nPlease join Riverside Academy\, community leaders\, and members of the Center for Community Resilience for a community discussion on April 4th at 3:30 p.m. at Riverside Academy.  The purpose of this discussion is to ensure that Cincinnati’s plan to support the Riverside neighborhood truly reflects the neighborhood needs\, and your input is needed. \nThe Center for Community Resilience and Riverside Academy are hosting this meeting to inform a community-driven neighborhood investment strategy. From affordable housing to locally owned small business\, parks\, roadway improvements and community safety – the goal is to design what a safe and equitable environment looks like for the Riverside neighborhood. From this meeting the Center will use your input to inform an investment strategy for the leaders at City Hall—a plan that will include measures to ensure that community has a means to hold elected leaders accountable. \nPlease join us on April 4th to make your voice heard! \n  \n  \nDownload (PDF)»
URL:https://acariverside.com/event/community-meeting/
LOCATION:Riverside Academy\, 3280 River Road\, Cincinnati\, OH\, 45204\, United States
CATEGORIES:Calendar Only
GEO:39.0862451;-84.5779904
X-APPLE-STRUCTURED-LOCATION;VALUE=URI;X-ADDRESS=Riverside Academy 3280 River Road Cincinnati OH 45204 United States;X-APPLE-RADIUS=500;X-TITLE=3280 River Road:geo:-84.5779904,39.0862451
END:VEVENT
END:VCALENDAR