BEGIN:VCALENDAR
VERSION:2.0
PRODID:-//Riverside Academy - ECPv5.16.4//NONSGML v1.0//EN
CALSCALE:GREGORIAN
METHOD:PUBLISH
X-WR-CALNAME:Riverside Academy
X-ORIGINAL-URL:https://acariverside.com
X-WR-CALDESC:Events for Riverside Academy
BEGIN:VTIMEZONE
TZID:America/New_York
BEGIN:DAYLIGHT
TZOFFSETFROM:-0500
TZOFFSETTO:-0400
TZNAME:EDT
DTSTART:20220313T070000
END:DAYLIGHT
BEGIN:STANDARD
TZOFFSETFROM:-0400
TZOFFSETTO:-0500
TZNAME:EST
DTSTART:20221106T060000
END:STANDARD
END:VTIMEZONE
BEGIN:VEVENT
DTSTART;TZID=America/New_York:20220720T090000
DTEND;TZID=America/New_York:20220720T120000
DTSTAMP:20260421T204522
CREATED:20220628T195151Z
LAST-MODIFIED:20220628T195151Z
UID:8680-1658307600-1658318400@acariverside.com
SUMMARY:Cheer & Dance Camp (K-8)
DESCRIPTION:Free & open to the community\, children entering Grades K-8 are invited to register for Cheer & Dance Camp at Riverside Academy this summer! During this co-ed camp\, instruction and practice will be tailored to the level of each camper. Athletic shoes\, athletic attire\, and a water bottle are required for all campers. \nRegister for Cheer Camp by 7/18 at acariverside.com/summer!
URL:https://acariverside.com/event/cheer-dance-camp-k-8-2/
LOCATION:Riverside Academy\, 3280 River Road\, Cincinnati\, OH\, 45204\, United States
CATEGORIES:Calendar Only
GEO:39.0862451;-84.5779904
X-APPLE-STRUCTURED-LOCATION;VALUE=URI;X-ADDRESS=Riverside Academy 3280 River Road Cincinnati OH 45204 United States;X-APPLE-RADIUS=500;X-TITLE=3280 River Road:geo:-84.5779904,39.0862451
END:VEVENT
END:VCALENDAR