BEGIN:VCALENDAR
VERSION:2.0
PRODID:-//Riverside Academy - ECPv5.16.4//NONSGML v1.0//EN
CALSCALE:GREGORIAN
METHOD:PUBLISH
X-WR-CALNAME:Riverside Academy
X-ORIGINAL-URL:https://acariverside.com
X-WR-CALDESC:Events for Riverside Academy
BEGIN:VTIMEZONE
TZID:America/New_York
BEGIN:DAYLIGHT
TZOFFSETFROM:-0500
TZOFFSETTO:-0400
TZNAME:EDT
DTSTART:20210314T070000
END:DAYLIGHT
BEGIN:STANDARD
TZOFFSETFROM:-0400
TZOFFSETTO:-0500
TZNAME:EST
DTSTART:20211107T060000
END:STANDARD
END:VTIMEZONE
BEGIN:VEVENT
DTSTART;TZID=America/New_York:20210914T150000
DTEND;TZID=America/New_York:20210914T150000
DTSTAMP:20260422T070336
CREATED:20210913T193152Z
LAST-MODIFIED:20210913T193152Z
UID:7252-1631631600-1631631600@acariverside.com
SUMMARY:Board Meeting & Public Hearing
DESCRIPTION:NOTICE OF PUBLIC HEARING\n  \nNotice is hereby given that the Board of Directors of Riverside Academy (“School”) will hold a public hearing on September 14\, 2021 at 3:00 p.m. at Queen City Prep High School\, 2612 Gilbert Avenue\, Cincinnati\, Ohio  45206. The purpose of the hearing will be to receive public comments regarding a proposed resolution which would allow the School to exceed the time limitations on the preparation and administration of state and school-wide assessments prescribed by ORC Section 3301.0729.
URL:https://acariverside.com/event/board-meeting-public-hearing/
LOCATION:Queen City Career Prep\, 2170 Gilbert Ave\, Cincinnati\, OH\, 45206\, United States
CATEGORIES:Calendar Only,School Board
END:VEVENT
END:VCALENDAR