BEGIN:VCALENDAR
VERSION:2.0
PRODID:-//Riverside Academy - ECPv5.16.4//NONSGML v1.0//EN
CALSCALE:GREGORIAN
METHOD:PUBLISH
X-WR-CALNAME:Riverside Academy
X-ORIGINAL-URL:https://acariverside.com
X-WR-CALDESC:Events for Riverside Academy
BEGIN:VTIMEZONE
TZID:America/New_York
BEGIN:DAYLIGHT
TZOFFSETFROM:-0500
TZOFFSETTO:-0400
TZNAME:EDT
DTSTART:20240310T070000
END:DAYLIGHT
BEGIN:STANDARD
TZOFFSETFROM:-0400
TZOFFSETTO:-0500
TZNAME:EST
DTSTART:20241103T060000
END:STANDARD
END:VTIMEZONE
BEGIN:VEVENT
DTSTART;TZID=America/New_York:20240912T150000
DTEND;TZID=America/New_York:20240912T150000
DTSTAMP:20260420T224222
CREATED:20240730T150254Z
LAST-MODIFIED:20240906T173440Z
UID:11785-1726153200-1726153200@acariverside.com
SUMMARY:Board Meeting
DESCRIPTION:NOTICE OF PUBLIC HEARING  \nNotice is hereby given that the Board of Directors of Riverside Academy (“School”) will hold a public hearing on September 12\, 2024 at 3:00 p.m. at Riverside Academy\, 3280 River Road\, Cincinnati\, OH 45204. The purpose of the hearing is to receive public comments regarding a proposed resolution which would allow the School to exceed the statutory time limitations on the preparation for and administration of state and schoolwide assessments.
URL:https://acariverside.com/event/board-meeting-39/
LOCATION:Riverside Academy\, 3280 River Road\, Cincinnati\, OH\, 45204\, United States
CATEGORIES:Calendar Only,School Board
GEO:39.0862451;-84.5779904
X-APPLE-STRUCTURED-LOCATION;VALUE=URI;X-ADDRESS=Riverside Academy 3280 River Road Cincinnati OH 45204 United States;X-APPLE-RADIUS=500;X-TITLE=3280 River Road:geo:-84.5779904,39.0862451
END:VEVENT
END:VCALENDAR