BEGIN:VCALENDAR
VERSION:2.0
PRODID:-//Riverside Academy - ECPv5.16.4//NONSGML v1.0//EN
CALSCALE:GREGORIAN
METHOD:PUBLISH
X-WR-CALNAME:Riverside Academy
X-ORIGINAL-URL:https://acariverside.com
X-WR-CALDESC:Events for Riverside Academy
BEGIN:VTIMEZONE
TZID:America/New_York
BEGIN:DAYLIGHT
TZOFFSETFROM:-0500
TZOFFSETTO:-0400
TZNAME:EDT
DTSTART:20240310T070000
END:DAYLIGHT
BEGIN:STANDARD
TZOFFSETFROM:-0400
TZOFFSETTO:-0500
TZNAME:EST
DTSTART:20241103T060000
END:STANDARD
END:VTIMEZONE
BEGIN:VEVENT
DTSTART;TZID=America/New_York:20240606T150000
DTEND;TZID=America/New_York:20240606T150000
DTSTAMP:20260421T005254
CREATED:20230818T135553Z
LAST-MODIFIED:20240529T150846Z
UID:10405-1717686000-1717686000@acariverside.com
SUMMARY:Board Meeting
DESCRIPTION:PUBLIC NOTICE\nNotice is hereby given that the meeting of the Board of Directors of Riverside Academy originally scheduled for Thursday\, June 13\, 2024 has been rescheduled to Thursday\, June 6\, 2024 at 3:00 p.m. and will be held at 3280 River Road\, Cincinnati\, OH 45204. The purpose of the meeting is to consider various administrative matters and such other general business that may properly come before the Board of Directors.  Please check the School’s website at https://acariverside.com/ for potential updates to the meeting information or for changes to future meetings.
URL:https://acariverside.com/event/board-meeting-37/
LOCATION:Riverside Academy\, 3280 River Road\, Cincinnati\, OH\, 45204\, United States
CATEGORIES:Calendar Only,School Board
GEO:39.0862451;-84.5779904
X-APPLE-STRUCTURED-LOCATION;VALUE=URI;X-ADDRESS=Riverside Academy 3280 River Road Cincinnati OH 45204 United States;X-APPLE-RADIUS=500;X-TITLE=3280 River Road:geo:-84.5779904,39.0862451
END:VEVENT
END:VCALENDAR