BEGIN:VCALENDAR
VERSION:2.0
PRODID:-//Riverside Academy - ECPv5.16.4//NONSGML v1.0//EN
CALSCALE:GREGORIAN
METHOD:PUBLISH
X-WR-CALNAME:Riverside Academy
X-ORIGINAL-URL:https://acariverside.com
X-WR-CALDESC:Events for Riverside Academy
BEGIN:VTIMEZONE
TZID:America/New_York
BEGIN:DAYLIGHT
TZOFFSETFROM:-0500
TZOFFSETTO:-0400
TZNAME:EDT
DTSTART:20190310T070000
END:DAYLIGHT
BEGIN:STANDARD
TZOFFSETFROM:-0400
TZOFFSETTO:-0500
TZNAME:EST
DTSTART:20191103T060000
END:STANDARD
END:VTIMEZONE
BEGIN:VEVENT
DTSTART;TZID=America/New_York:20190910T163000
DTEND;TZID=America/New_York:20190910T163000
DTSTAMP:20260425T085022
CREATED:20190709T142839Z
LAST-MODIFIED:20190709T142839Z
UID:1623-1568133000-1568133000@acariverside.com
SUMMARY:Board Meeting
DESCRIPTION:
URL:https://acariverside.com/event/board-meeting-2/
CATEGORIES:School Board
END:VEVENT
END:VCALENDAR