BEGIN:VCALENDAR
VERSION:2.0
PRODID:-//Riverside Academy - ECPv5.16.4//NONSGML v1.0//EN
CALSCALE:GREGORIAN
METHOD:PUBLISH
X-WR-CALNAME:Riverside Academy
X-ORIGINAL-URL:https://acariverside.com
X-WR-CALDESC:Events for Riverside Academy
BEGIN:VTIMEZONE
TZID:America/New_York
BEGIN:DAYLIGHT
TZOFFSETFROM:-0500
TZOFFSETTO:-0400
TZNAME:EDT
DTSTART:20220313T070000
END:DAYLIGHT
BEGIN:STANDARD
TZOFFSETFROM:-0400
TZOFFSETTO:-0500
TZNAME:EST
DTSTART:20221106T060000
END:STANDARD
END:VTIMEZONE
BEGIN:VEVENT
DTSTART;TZID=America/New_York:20220628T150000
DTEND;TZID=America/New_York:20220628T150000
DTSTAMP:20260421T204215
CREATED:20220627T194103Z
LAST-MODIFIED:20220627T194103Z
UID:8509-1656428400-1656428400@acariverside.com
SUMMARY:Board Meeting
DESCRIPTION:PUBLIC NOTICE \nNotice is hereby given that the meeting of the Board of Directors of Riverside Academy will take place June 28\, 2022 at 3:00 p.m. via video/telephone conference. To join the meeting please go to the following website https://us06web.zoom.us/j/82283910130 and access via telephone at 1-312-626-6799\, Meeting ID: 822 8391 0130.  The purpose of the meeting is to consider a proposed calamity day plan and other various administrative matters and such other general business that may properly come before the Board of Directors.  Please check the School’s website at https://acariverside.com/ for potential updates to the meeting information or for changes to future meetings.
URL:https://acariverside.com/event/board-meeting-18/
LOCATION:Virtual
CATEGORIES:Calendar Only,School Board
END:VEVENT
END:VCALENDAR