BEGIN:VCALENDAR
VERSION:2.0
PRODID:-//Riverside Academy - ECPv5.16.4//NONSGML v1.0//EN
CALSCALE:GREGORIAN
METHOD:PUBLISH
X-WR-CALNAME:Riverside Academy
X-ORIGINAL-URL:https://acariverside.com
X-WR-CALDESC:Events for Riverside Academy
BEGIN:VTIMEZONE
TZID:America/New_York
BEGIN:DAYLIGHT
TZOFFSETFROM:-0500
TZOFFSETTO:-0400
TZNAME:EDT
DTSTART:20210314T070000
END:DAYLIGHT
BEGIN:STANDARD
TZOFFSETFROM:-0400
TZOFFSETTO:-0500
TZNAME:EST
DTSTART:20211107T060000
END:STANDARD
END:VTIMEZONE
BEGIN:VEVENT
DTSTART;TZID=America/New_York:20210309T150000
DTEND;TZID=America/New_York:20210309T150000
DTSTAMP:20260422T120006
CREATED:20200709T133505Z
LAST-MODIFIED:20210309T154025Z
UID:3997-1615302000-1615302000@acariverside.com
SUMMARY:Virtual Board Meeting
DESCRIPTION:Notice is hereby given that the meeting of the Board of Directors of Riverside Academy  will take place March 9\, 2021 at 3:00 p.m. via video/telephone conference. To join the meeting please go to the following website https://zoom.us/j/95784260677 and access via telephone at 1-312-626-6799\, Meeting ID: 957 8426 0677.  The purpose of the meeting is to consider various administrative matters and such other general business that may properly come before the Board of Directors.  Please check the School’s website at https://acariverside.com/ for potential updates to the meeting information or for changes to future meetings.
URL:https://acariverside.com/event/board-meeting-11/
LOCATION:Virtual
CATEGORIES:Calendar Only,School Board
END:VEVENT
END:VCALENDAR