BEGIN:VCALENDAR
VERSION:2.0
PRODID:-//Riverside Academy - ECPv5.16.4//NONSGML v1.0//EN
CALSCALE:GREGORIAN
METHOD:PUBLISH
X-WR-CALNAME:Riverside Academy
X-ORIGINAL-URL:https://acariverside.com
X-WR-CALDESC:Events for Riverside Academy
BEGIN:VTIMEZONE
TZID:America/New_York
BEGIN:DAYLIGHT
TZOFFSETFROM:-0500
TZOFFSETTO:-0400
TZNAME:EDT
DTSTART:20210314T070000
END:DAYLIGHT
BEGIN:STANDARD
TZOFFSETFROM:-0400
TZOFFSETTO:-0500
TZNAME:EST
DTSTART:20211107T060000
END:STANDARD
END:VTIMEZONE
BEGIN:VEVENT
DTSTART;TZID=America/New_York:20210519T163000
DTEND;TZID=America/New_York:20210519T180000
DTSTAMP:20260422T102431
CREATED:20210413T211619Z
LAST-MODIFIED:20210504T193844Z
UID:5945-1621441800-1621447200@acariverside.com
SUMMARY:8th Grade Celebration
DESCRIPTION:We are excited to celebrate our 8th Grade graduates! This will be an outdoor award ceremony with refreshments provided! All 8th Grade students and families are invited – look forward to seeing everyone!!! This event will be held outside to ensure social distancing. \nRefreshments\, awards & memories! \nhttps://www.facebook.com/events/4002083806535272/ \n\nDownload Flyer (PDF) »
URL:https://acariverside.com/event/8th-grade-celebration/
LOCATION:Riverside Academy\, 3280 River Road\, Cincinnati\, OH\, 45204\, United States
GEO:39.0862451;-84.5779904
X-APPLE-STRUCTURED-LOCATION;VALUE=URI;X-ADDRESS=Riverside Academy 3280 River Road Cincinnati OH 45204 United States;X-APPLE-RADIUS=500;X-TITLE=3280 River Road:geo:-84.5779904,39.0862451
END:VEVENT
END:VCALENDAR